BEGIN:VCALENDAR
VERSION:2.0
PRODID:-//ASHRAE Falcon Chapter - ECPv6.3.6//NONSGML v1.0//EN
CALSCALE:GREGORIAN
METHOD:PUBLISH
X-WR-CALNAME:ASHRAE Falcon Chapter
X-ORIGINAL-URL:https://ashraeuae.org
X-WR-CALDESC:Events for ASHRAE Falcon Chapter
REFRESH-INTERVAL;VALUE=DURATION:PT1H
X-Robots-Tag:noindex
X-PUBLISHED-TTL:PT1H
BEGIN:VTIMEZONE
TZID:Asia/Dubai
BEGIN:STANDARD
TZOFFSETFROM:+0400
TZOFFSETTO:+0400
TZNAME:+04
DTSTART:20180101T000000
END:STANDARD
END:VTIMEZONE
BEGIN:VEVENT
DTSTART;TZID=Asia/Dubai:20180509T080000
DTEND;TZID=Asia/Dubai:20180509T170000
DTSTAMP:20260425T191926
CREATED:20180310T172948Z
LAST-MODIFIED:20180310T172948Z
UID:4546-1525852800-1525885200@ashraeuae.org
SUMMARY:ASHRAE Course: The Future of Refrigerants: Challenges and Opportunities (MENA)
DESCRIPTION:This training provides a background review of international treaties and initiatives that support the transition from hydroclorofluorocarbon (HCFC) and hydrofluorocabon (HFC) refrigerants towards non-ozone depleting (ODP)\, low global warming potential (GWP) substances. A review of proposed refrigerants and how they can be used in different HVAC&R applications based on theoretical and empirical analyses are discussed. Challenges and opportunities associated with the different types of refrigerants: hydrofluorolefins\, and natural refrigerants are presented. Refrigerant options now and in the future that suites the region\, and related Standards and Codes of Systems and Substances are also covered. Finally\, the workshop wraps up with a discussion on the system’s perspective and how to best understand the opportunities for energy efficiency improvements along with hands-on experience with free software such as the ORNL Life Cycle Climate Performance web application and the ORNL Heat Pump Design Model. \nCourse Instructor\nOmar Abdelaziz\, Ph.D. \nCost:\n$405 for non-member\n$311 for ASHRAE Member\n$270 for ASHRAE Falcon Member. For information\, contact Ayah Said at globaltrainingcenter@ashrae.org \n———————————————— \n*Special Offer: Enroll for both HVAC Design Essentials (MENA) and The Future of Refrigerants: Challenges and Opportunities (MENA) courses (6-9 May 2018) and SAVE! \nCost:\n$1050 for non-member\n$860 for ASHRAE Member\n$800 for ASHRAE Falcon Member \n \nCost:\n$405 for non-member\n$311 for ASHRAE Member\n$270 for ASHRAE Falcon Member
URL:https://ashraeuae.org/event/ashrae-course-the-future-of-refrigerants-challenges-and-opportunities/
CATEGORIES:Course
ATTACH;FMTTYPE=:
END:VEVENT
END:VCALENDAR