BEGIN:VCALENDAR
VERSION:2.0
PRODID:-//ASHRAE Falcon Chapter - ECPv6.3.6//NONSGML v1.0//EN
CALSCALE:GREGORIAN
METHOD:PUBLISH
X-WR-CALNAME:ASHRAE Falcon Chapter
X-ORIGINAL-URL:https://ashraeuae.org
X-WR-CALDESC:Events for ASHRAE Falcon Chapter
REFRESH-INTERVAL;VALUE=DURATION:PT1H
X-Robots-Tag:noindex
X-PUBLISHED-TTL:PT1H
BEGIN:VTIMEZONE
TZID:Asia/Dubai
BEGIN:STANDARD
TZOFFSETFROM:+0400
TZOFFSETTO:+0400
TZNAME:+04
DTSTART:20190101T000000
END:STANDARD
END:VTIMEZONE
BEGIN:VEVENT
DTSTART;VALUE=DATE:20190409
DTEND;VALUE=DATE:20190411
DTSTAMP:20260425T173432
CREATED:20190210T061429Z
LAST-MODIFIED:20190210T061429Z
UID:4734-1554768000-1554940799@ashraeuae.org
SUMMARY:5th Annual Retrofit Tech MENA Summit & Awards
DESCRIPTION:The Retrofit Tech Summit MENA & Awards will provide a platform for senior government decision makers\, retrofit stakeholders and energy experts from across the region to discuss latest case studies\, best practices\, latest technology and smart innovation that will help them overcome challenges and achieve their retrofit objective.
URL:https://ashraeuae.org/event/5th-annual-retrofit-tech-mena-summit-awards/
CATEGORIES:Industry Event
ATTACH;FMTTYPE=:
END:VEVENT
END:VCALENDAR