BEGIN:VCALENDAR
VERSION:2.0
PRODID:-//ASHRAE Falcon Chapter - ECPv6.3.6//NONSGML v1.0//EN
CALSCALE:GREGORIAN
METHOD:PUBLISH
X-WR-CALNAME:ASHRAE Falcon Chapter
X-ORIGINAL-URL:https://ashraeuae.org
X-WR-CALDESC:Events for ASHRAE Falcon Chapter
REFRESH-INTERVAL;VALUE=DURATION:PT1H
X-Robots-Tag:noindex
X-PUBLISHED-TTL:PT1H
BEGIN:VTIMEZONE
TZID:Asia/Dubai
BEGIN:STANDARD
TZOFFSETFROM:+0400
TZOFFSETTO:+0400
TZNAME:+04
DTSTART:20180101T000000
END:STANDARD
END:VTIMEZONE
BEGIN:VEVENT
DTSTART;TZID=Asia/Dubai:20180506T080000
DTEND;TZID=Asia/Dubai:20180508T170000
DTSTAMP:20260426T064714
CREATED:20180310T172735Z
LAST-MODIFIED:20180310T172735Z
UID:4543-1525593600-1525798800@ashraeuae.org
SUMMARY:ASHRAE Course: HVAC Design Essentials (MENA)
DESCRIPTION:ASHRAE Middle East Global Training Center for Building Excellence is organizing a three-day HVAC Design Essentials training to provide intensive\, practical training for HVAC designers and others involved in the delivery of HVAC services in the MENA region. In three days\, gain real-world practical design skills and knowledge that can be put to immediate use in designing and maintaining HVAC systems. Developed by industry-leading professionals selected by ASHRAE and customized for the Middle East\, the training provides the fundamental and technical aspects of designing and maintaining HVAC systems. \nASHRAE’s HVAC Design Essentials training provides participants with instruction that accelerates their transformation into effective members of a design\, construction or facilities maintenance team. Developed by industry-leading professionals selected by ASHRAE\, the training provides attendees with the fundamentals and technical aspects of HVAC design. Attendees will gain practical skills and knowledge to design and maintain HVAC systems that can be put to immediate use. \nIn addition to gaining in-depth knowledge and understanding\, attendees will receive real-world examples of HVAC systems based on the renovated ASHRAE Headquarters building and on building in the MENA region. The training also teaches a systematic approach to guide a design team to a solution that optimally meets the client’s expectations. \nThe training provides the fundamental and technical aspects of designing and maintaining HVAC systems\, including: \n\n\n\n\nLoad Calculations\nPsychrometrics\nHVAC Systems and Components\nCodes and Standards\nBasic Design of Air Systems\nBasic Design of Hydronic Systems\nBAS Controls\nProject Management\n\n\n\n\n  \nCourse Instructors\nHassan Younes\nSamir Traboulsi\, Ph.D. \nCost:\n$948 for non-member\n$757 for ASHRAE Member\n$655 for ASHRAE Falcon Member. For information\, contact Ayah Said at globaltrainingcenter@ashrae.org \n(*Save $50 off registration if you register 30 days prior to the training) \nFee Covers: Course admittance\, course materials\, publications\, break refreshments\, and lunches. \nCompany Discount Fee: Enroll 3 or more participants from the same company at the same time and save. Group pricing available for 3+ registrants. For information\, contact Ayah Said at globaltrainingcenter@ashrae.org \n———————————————— \n*Special Offer: Enroll for both HVAC Design Essentials (MENA) and The Future of Refrigerants: Challenges and Opportunities (MENA) courses (6-9 May 2018) and SAVE! \nCost:\n$1050 for non-member\n$860 for ASHRAE Member\n$800 for ASHRAE Falcon Member \n \nCost:\n$948 for non-member\n$757 for ASHRAE Member\n$655 for ASHRAE Falcon Member \n(*Save $50 off registration if you register 30 days prior to the training) \nFee Covers: Course admittance\, course materials\, publications\, break refreshments\, and lunches. \nCompany Discount Fee: Enroll 3 or more participants from the same company at the same time and save. Group pricing available for 3+ registrants. For information\, contact Ayah Said at  globaltrainingcenter@ashrae.org \n*Special Offer: Enroll for both HVAC Design Essentials (MENA) and The Future of Refrigerants: Challenges and Opportunities (MENA) courses (6-9 May 2018) and SAVE! \nCost:\n$800 for ASHRAE Falcon Member
URL:https://ashraeuae.org/event/ashrae-course-hvac-design-essentials-mena/
CATEGORIES:Course
ATTACH;FMTTYPE=:
END:VEVENT
END:VCALENDAR