BEGIN:VCALENDAR
VERSION:2.0
PRODID:-//ASHRAE Falcon Chapter - ECPv6.3.6//NONSGML v1.0//EN
CALSCALE:GREGORIAN
METHOD:PUBLISH
X-WR-CALNAME:ASHRAE Falcon Chapter
X-ORIGINAL-URL:https://ashraeuae.org
X-WR-CALDESC:Events for ASHRAE Falcon Chapter
REFRESH-INTERVAL;VALUE=DURATION:PT1H
X-Robots-Tag:noindex
X-PUBLISHED-TTL:PT1H
BEGIN:VTIMEZONE
TZID:Asia/Dubai
BEGIN:STANDARD
TZOFFSETFROM:+0400
TZOFFSETTO:+0400
TZNAME:+04
DTSTART:20180101T000000
END:STANDARD
END:VTIMEZONE
BEGIN:VEVENT
DTSTART;TZID=Asia/Dubai:20180327T120000
DTEND;TZID=Asia/Dubai:20180327T130000
DTSTAMP:20260424T115707
CREATED:20180312T051841Z
LAST-MODIFIED:20180312T051841Z
UID:4624-1522152000-1522155600@ashraeuae.org
SUMMARY:Free seminar: Intelligent Buildings - Technology is Changing; What is Possible in the Built Environment
DESCRIPTION:There is a lot of buzz around intelligent or smart buildings\, but what exactly is an intelligent building? This lecture will explore how intelligent buildings work and how they are constructed. \n  \nSpeaker:\nJim Vallort
URL:https://ashraeuae.org/event/free-seminar-intelligent-buildings-technilogy-is-changing-what-is-possible-in-the-built-environment/
LOCATION:Amity University Dubai\, dubai\, United Arab Emirates
CATEGORIES:Free Seminar
ATTACH;FMTTYPE=:
END:VEVENT
END:VCALENDAR