BEGIN:VCALENDAR
VERSION:2.0
PRODID:-//ASHRAE Falcon Chapter - ECPv6.3.6//NONSGML v1.0//EN
CALSCALE:GREGORIAN
METHOD:PUBLISH
X-ORIGINAL-URL:https://ashraeuae.org
X-WR-CALDESC:Events for ASHRAE Falcon Chapter
REFRESH-INTERVAL;VALUE=DURATION:PT1H
X-Robots-Tag:noindex
X-PUBLISHED-TTL:PT1H
BEGIN:VTIMEZONE
TZID:Asia/Dubai
BEGIN:STANDARD
TZOFFSETFROM:+0400
TZOFFSETTO:+0400
TZNAME:+04
DTSTART:20250101T000000
END:STANDARD
END:VTIMEZONE
BEGIN:VEVENT
DTSTART;VALUE=DATE:20251002
DTEND;VALUE=DATE:20251006
DTSTAMP:20260423T025007
CREATED:20250909T111143Z
LAST-MODIFIED:20250909T111143Z
UID:6927-1759363200-1759708799@ashraeuae.org
SUMMARY:HVACR Nexus 2025 is coming to Dubai!
DESCRIPTION:
URL:https://ashraeuae.org/event/hvacr-nexus-2025-is-coming-to-dubai/
LOCATION:Dubai
CATEGORIES:Industry Event,Meeting
END:VEVENT
END:VCALENDAR