BEGIN:VCALENDAR
VERSION:2.0
PRODID:-//ASHRAE Falcon Chapter - ECPv6.3.6//NONSGML v1.0//EN
CALSCALE:GREGORIAN
METHOD:PUBLISH
X-ORIGINAL-URL:https://ashraeuae.org
X-WR-CALDESC:Events for ASHRAE Falcon Chapter
REFRESH-INTERVAL;VALUE=DURATION:PT1H
X-Robots-Tag:noindex
X-PUBLISHED-TTL:PT1H
BEGIN:VTIMEZONE
TZID:Asia/Dubai
BEGIN:STANDARD
TZOFFSETFROM:+0400
TZOFFSETTO:+0400
TZNAME:+04
DTSTART:20230101T000000
END:STANDARD
END:VTIMEZONE
BEGIN:VEVENT
DTSTART;TZID=Asia/Dubai:20231205T180000
DTEND;TZID=Asia/Dubai:20231205T180000
DTSTAMP:20260421T141630
CREATED:20231201T082640Z
LAST-MODIFIED:20240408T084031Z
UID:6023-1701799200-1701799200@ashraeuae.org
SUMMARY:Seminar: Knowledge sharing on the latest updates to ASHRAE Standards 241 and 62.1
DESCRIPTION:ASHRAE Falcon Chapter\, in association with enVerid Systems\, Inc. and SCG\, invites you to attend a free seminar about the latest updates to ASHRAE Standards 241 and 62.1 \nLocation: Metropolitan Hotel Dubai – SH Zayed Road -Free valet parking is available\nDate: 5 Dec 2023\nCheck-in Time at 6:00 P.M \nSpeaker:\nDr. Marwa Zaatari \nAbout the seminar topic: \nIntroduction:  The United Arab Emirates will host the UN Climate Conference (COP28) in Dubai\, promising to prioritize climate and health. This seminar will discuss updates to ASHRAE Standards to improve indoor air quality and promote decarbonization in buildings while increasing resilience to outdoor pollutants\, aligning with COP28’s focus.
URL:https://ashraeuae.org/event/seminar-knowledge-sharing-on-the-latest-updates-to-ashrae-standards-241-and-62-1/
CATEGORIES:Free Seminar
ATTACH;FMTTYPE=image/jpeg:https://ashraeuae.org/wp-content/uploads/2024/04/Seminar-marwa.jpeg
END:VEVENT
END:VCALENDAR