BEGIN:VCALENDAR
VERSION:2.0
PRODID:-//ASHRAE Falcon Chapter - ECPv6.3.6//NONSGML v1.0//EN
CALSCALE:GREGORIAN
METHOD:PUBLISH
X-ORIGINAL-URL:https://ashraeuae.org
X-WR-CALDESC:Events for ASHRAE Falcon Chapter
REFRESH-INTERVAL;VALUE=DURATION:PT1H
X-Robots-Tag:noindex
X-PUBLISHED-TTL:PT1H
BEGIN:VTIMEZONE
TZID:Europe/Moscow
BEGIN:STANDARD
TZOFFSETFROM:+0300
TZOFFSETTO:+0300
TZNAME:MSK
DTSTART:20200101T000000
END:STANDARD
TZID:Asia/Dubai
BEGIN:STANDARD
TZOFFSETFROM:+0400
TZOFFSETTO:+0400
TZNAME:+04
DTSTART:20200101T000000
END:STANDARD
TZID:Asia/Dubai
BEGIN:STANDARD
TZOFFSETFROM:+0400
TZOFFSETTO:+0400
TZNAME:+04
DTSTART:20240101T000000
END:STANDARD
END:VTIMEZONE
BEGIN:VEVENT
DTSTART;TZID=Europe/Moscow:20200223T080000
DTEND;TZID=Europe/Moscow:20200225T170000
DTSTAMP:20260425T173213
CREATED:20200108T113445Z
LAST-MODIFIED:20200108T113445Z
UID:5011-1582444800-1582650000@ashraeuae.org
SUMMARY:ASHRAE Course - HVAC Design: Level I – Essentials - DAMMAM\, KSA
DESCRIPTION:The ASHRAE Global Training Center for Building Excellence is organizing a three-day HVAC Design Essentials training to provide intensive\, practical training for HVAC designers and others involved in the delivery of HVAC services in the MENA region. In three days\, gain real-world practical design skills and knowledge that can be put to immediate use in designing and maintaining HVAC systems. Developed by industry-leading professionals selected by ASHRAE and customized for the Middle East\, the training provides the fundamental and technical aspects of designing and maintaining HVAC systems. \nThe training provides the fundamental and technical aspects of designing and maintaining HVAC systems\, including: \n\n\n\n\nLoad Calculations\nPsychrometrics\nHVAC Systems and Components\nOutdoor Air Ventilation Volumes and Control\nAir Side and Hydronic Systems\nHumidification/De-humidification Components\n\n\n\n\nFor more information: \nhttps://www.ashrae.org/professional-development/all-instructor-led-training/global-training-center/dammam-hvac-design-training-mena-february-2020
URL:https://ashraeuae.org/event/ashrae-course-hvac-design-level-i-essentials-dammam-ksa/
CATEGORIES:Course
ATTACH;FMTTYPE=:
END:VEVENT
BEGIN:VEVENT
DTSTART;TZID=Europe/Moscow:20200226T080000
DTEND;TZID=Europe/Moscow:20200227T170000
DTSTAMP:20260425T173213
CREATED:20200108T113858Z
LAST-MODIFIED:20200108T113858Z
UID:5015-1582704000-1582822800@ashraeuae.org
SUMMARY:ASHRAE COURSE – HVAC DESIGN: LEVEL II – APPLICATIONS – DAMMAM\, KSA
DESCRIPTION:Gain advanced instruction on HVAC system designs for experienced HVAC designers or those who have completed the HVAC Design Essentials (MENA) training. This two-day training provides complex information about designing\, installing\, and maintaining HVAC systems\, resulting in skills that can be put to immediate use. Gain an in-depth understanding of ASHRAE Standards 55\, 62.1\, 90.1\, and ASHRAE’s Advanced Energy Design Guides. \n  \nFor more information: \nhttps://www.ashrae.org/professional-development/all-instructor-led-training/global-training-center/dammam-hvac-design-training-mena-february-2020
URL:https://ashraeuae.org/event/ashrae-course-hvac-design-level-ii-applications-dammam-ksa/
CATEGORIES:Course
ATTACH;FMTTYPE=:
END:VEVENT
BEGIN:VEVENT
DTSTART;TZID=Asia/Dubai:20200301T080000
DTEND;TZID=Asia/Dubai:20200301T170000
DTSTAMP:20260425T173213
CREATED:20200210T152617Z
LAST-MODIFIED:20200210T152617Z
UID:5049-1583049600-1583082000@ashraeuae.org
SUMMARY:The Future of Refrigerants: Challenges and Opportunities (MENA)
DESCRIPTION:This training provides a background review of international treaties and initiatives that support the transition from hydrochlorofluorocarbon (HCFC) and hydrofluorocarbon (HFC) refrigerants towards non-ozone-depleting (ODP)\, low-global-warming-potential (GWP) substances. A review of proposed refrigerants and how they can be used in different HVAC&R applications based on theoretical and empirical analyses is discussed. Challenges and opportunities associated with the different types of refrigerants: hydrofluoroolefins and natural refrigerants are presented. Relevant refrigerant options for high ambient temperature (HAT) environments\, and standards\, codes of systems and substances are also covered. Finally\, the course wraps up with a discussion on the systems perspective and how to best understand the opportunities for energy-efficiency improvements. This would include an introduction to free modeling tools such as the online ORNL Heat Pump Design Model. \n  \nRegistration Fees\n\n\n\nFees\nMember\nNon-Member\n\n\nEarly Bird (Early Bird Pricing – Deadline 2 February 2020)\n$249\n$324\n\n\nStandard\n$311\n$405\n\n\n\n  \nTo register: \nhttps://www.ashrae.org/professional-development/all-instructor-led-training/global-training-center/future-of-refrigerants-challenges-and-opportunities-mena
URL:https://ashraeuae.org/event/the-future-of-refrigerants-challenges-and-opportunities-mena/
CATEGORIES:Course
ATTACH;FMTTYPE=:
END:VEVENT
BEGIN:VEVENT
DTSTART;TZID=Asia/Dubai:20200315T080000
DTEND;TZID=Asia/Dubai:20200317T170000
DTSTAMP:20260425T173213
CREATED:20200108T114709Z
LAST-MODIFIED:20200108T114709Z
UID:5024-1584259200-1584464400@ashraeuae.org
SUMMARY:ASHRAE COURSE – HVAC DESIGN: LEVEL I – ESSENTIALS – DUBAI\, UAE
DESCRIPTION:The ASHRAE Global Training Center for Building Excellence is organizing a three-day HVAC Design Essentials training to provide intensive\, practical training for HVAC designers and others involved in the delivery of HVAC services in the MENA region. In three days\, gain real-world practical design skills and knowledge that can be put to immediate use in designing and maintaining HVAC systems. Developed by industry-leading professionals selected by ASHRAE and customized for the Middle East\, the training provides the fundamental and technical aspects of designing and maintaining HVAC systems. \nThe training provides the fundamental and technical aspects of designing and maintaining HVAC systems\, including: \n\n\n\n\nLoad Calculations\nPsychrometrics\nHVAC Systems and Components\nOutdoor Air Ventilation Volumes and Control\nAir Side and Hydronic Systems\nHumidification/De-humidification Components\n\n\n\n\nFor more information: \nhttps://www.ashrae.org/professional-development/all-instructor-led-training/global-training-center/hvac-design-training-dubai-march-2020-mena
URL:https://ashraeuae.org/event/ashrae-course-hvac-design-level-i-essentials-dubai-uae/
CATEGORIES:Course
ATTACH;FMTTYPE=:
END:VEVENT
BEGIN:VEVENT
DTSTART;TZID=Asia/Dubai:20200318T080000
DTEND;TZID=Asia/Dubai:20200319T170000
DTSTAMP:20260425T173213
CREATED:20200108T115137Z
LAST-MODIFIED:20200108T115137Z
UID:5029-1584518400-1584637200@ashraeuae.org
SUMMARY:ASHRAE COURSE – HVAC DESIGN: LEVEL II – APPLICATIONS – DUBAI\, UAE
DESCRIPTION:Gain advanced instruction on HVAC system designs for experienced HVAC designers or those who have completed the HVAC Design Essentials (MENA) training. This two-day training provides complex information about designing\, installing\, and maintaining HVAC systems\, resulting in skills that can be put to immediate use. Gain an in-depth understanding of ASHRAE Standards 55\, 62.1\, 90.1\, and ASHRAE’s Advanced Energy Design Guides. \n  \nFor more information: \nhttps://www.ashrae.org/professional-development/all-instructor-led-training/global-training-center/hvac-design-training-dubai-march-2020-mena
URL:https://ashraeuae.org/event/ashrae-course-hvac-design-level-ii-applications-dubai-uae/
CATEGORIES:Course
ATTACH;FMTTYPE=:
END:VEVENT
BEGIN:VEVENT
DTSTART;TZID=Asia/Dubai:20240429T090000
DTEND;TZID=Asia/Dubai:20240503T170000
DTSTAMP:20260425T173213
CREATED:20240408T131624Z
LAST-MODIFIED:20240408T133117Z
UID:6095-1714381200-1714755600@ashraeuae.org
SUMMARY:HVAC Design Level l and ll (MENA)
DESCRIPTION:Course Description\nThese courses will not only increase your HVAC knowledge\, but it will also accelerate the rate at which you will increase your knowledge in the future. \nAchieving energy-efficient building performance that provides cooling comfort for occupants and meets the needs of building owners begins with system design.  If the design is flawed\, performance will suffer\, and owner objectives will not bev satisfied. \nASHRAE offers a solution to improve design practices. Whether a designer\, or facility manager\, a recent graduate or an experienced professional who has taken on new design responsibilities\, it is critical to combine the basic understanding of current standards with the application of new technologies to achieve success. Without a basic understanding of how systems perform in real-world environments and knowledge of which design option are available\, engineers are ill equipped to meet with the ever-increasing challenges of their positions. \n  \nFor more details\, click here
URL:https://ashraeuae.org/event/hvac-design-level-l-and-ll-mena/
LOCATION:Dubai
CATEGORIES:Course
ATTACH;FMTTYPE=image/png:https://ashraeuae.org/wp-content/uploads/2024/04/GlobalTrainingCenter-logo.png
END:VEVENT
BEGIN:VEVENT
DTSTART;TZID=Asia/Dubai:20240514T150000
DTEND;TZID=Asia/Dubai:20240515T180000
DTSTAMP:20260425T173213
CREATED:20240408T132059Z
LAST-MODIFIED:20240408T133142Z
UID:6100-1715698800-1715796000@ashraeuae.org
SUMMARY:[Online] District Cooling System Design (MENA)
DESCRIPTION:Course Description\nDistrict cooling has the potential to provide a sustainable solution to meet cooling requirements in the Middle East. Apart from providing cooling needs\, district cooling is more reliable\, more energy efficient\, and has less negative environmental impact in the region than standard approaches to air-conditioning. \nTo improve the design of district cooling systems (DCS)\, in 2019 ASHRAE published two practical guides to implement district cooling: District Cooling Guide\, Second Edition and Owner’s Guide for Buildings Served by District Cooling. Each guide contains a wealth of information on system components and enhancements\, troubleshooting problems\, and the integration of components into district cooling systems for both designers and building owners. \nWith MENA countries likely to grow rapidly and urbanize further in coming decades\, don’t miss your opportunity to learn from leading industry experts on the requirements of planning\, designing\, and operating district cooling systems. \nThis course presents practical guidance contained in two ASHRAE publications referenced above\, ensuring that when designed and operated properly\, DCS can be an energy-efficient alternative to conventional in-building chilled water plant adding to an owner’s sustainability portfolio and allowing the building owner to focus on their own business\, rather than operating and maintaining a chilled water plant. \nDCS can provide buildings subscribing to their service with chilled water for comfort and process cooling with the benefits to the building owner of greatly reduced or eliminated maintenance cost\, much lower space requirements\, and no concerns as to plant capacity or load growth. This 6-hour course covers what designers and owners need to know about district cooling to enable it to provide energy efficiencies and reliable operation. \nTopics covered include Planning\, Central Plant Design\, Distribution System design\, Building Interfaces\, Thermal Energy Storage\, and Operation and Maintenance. The instructors will take attendees through the guidance provided in the ASHRAE District Cooling Guide\, Second Edition and the ASHRAE Owner’s Guide for Buildings Served by District Cooling\, tools made available from ASHRAE to advance the successful applications and use of district cooling technology. \n  \nFor more details\, click here.
URL:https://ashraeuae.org/event/district-cooling-system-design-mena/
LOCATION:Online
CATEGORIES:Course
ATTACH;FMTTYPE=image/png:https://ashraeuae.org/wp-content/uploads/2024/04/GlobalTrainingCenter-logo.png
END:VEVENT
BEGIN:VEVENT
DTSTART;VALUE=DATE:20240529
DTEND;VALUE=DATE:20240530
DTSTAMP:20260425T173213
CREATED:20240408T133054Z
LAST-MODIFIED:20240409T043423Z
UID:6107-1716940800-1717027199@ashraeuae.org
SUMMARY:[Online] NEW! Introduction to Building Decarbonization (MENA)
DESCRIPTION:Course Description\nIntroduction to Building Decarbonization demystifies the primary sources of carbon emissions in buildings and explains the key drivers for decarbonization. The course focuses on the framework of decarbonization—including key definitions and distinct scopes that drive sustainable practices. Learn about ASHRAE’s role in disseminating vital decarbonization insights\, emphasizing the urgency of combatting climate change\, and pinpointing any given building’s substantial contribution to energy-related carbon emissions. \nThe course explores the complexities of building carbon emissions\, including on-site combustion\, construction-related sources\, and refrigerant leakage. Other covered topics include the principles of building decarbonization\, harmonizing occupant well-being\, environmental stewardship\, and the nature of direct and indirect emissions. The course concludes on the topic of sustainable building innovation—setting a foundation of best practices for a decarbonizing HVAC&R industry. \n  \nFor more details\, click here.
URL:https://ashraeuae.org/event/online-new-introduction-to-building-decarbonization-mena/
LOCATION:Online
CATEGORIES:Course
ATTACH;FMTTYPE=image/png:https://ashraeuae.org/wp-content/uploads/2024/04/GlobalTrainingCenter-logo.png
END:VEVENT
BEGIN:VEVENT
DTSTART;VALUE=DATE:20240604
DTEND;VALUE=DATE:20240606
DTSTAMP:20260425T173213
CREATED:20240408T134136Z
LAST-MODIFIED:20240409T043412Z
UID:6111-1717459200-1717631999@ashraeuae.org
SUMMARY:[Online] Commissioning Process in new & Existing Buildings (MENA)
DESCRIPTION:Course Description:\nThis course focuses on how the building commissioning process can be applied cost-effectively to new construction and to existing facilities\, with a strong emphasis on existing facilities applications. The fundamentals of the commissioning process through each step of a new construction project\, from predesign to occupancy and operations will be introduced. Find out more about how the application of the commissioning process in existing facilities differs from new construction. Learn about the benefits of commissioning and gain an appreciation for how the process can improve the built environment\, reduce environmental impacts through responsible resource utilization\, improve the quality of design and construction\, and raise the professional reputation of the entire commissioning team. Commissioning documentation\, including an overview of commissioning specifications for new construction will be highlighted. Attendant will take away compelling information and case studies that demonstrate the value of investing in the commissioning process. \n  \nFor more details\, click here.
URL:https://ashraeuae.org/event/online-commissioning-process-in-new-existing-buildings-mena/
LOCATION:Online
CATEGORIES:Course
END:VEVENT
END:VCALENDAR