BEGIN:VCALENDAR
VERSION:2.0
PRODID:-//ASHRAE Falcon Chapter - ECPv6.3.6//NONSGML v1.0//EN
CALSCALE:GREGORIAN
METHOD:PUBLISH
X-WR-CALNAME:ASHRAE Falcon Chapter
X-ORIGINAL-URL:https://ashraeuae.org
X-WR-CALDESC:Events for ASHRAE Falcon Chapter
REFRESH-INTERVAL;VALUE=DURATION:PT1H
X-Robots-Tag:noindex
X-PUBLISHED-TTL:PT1H
BEGIN:VTIMEZONE
TZID:Asia/Dubai
BEGIN:STANDARD
TZOFFSETFROM:+0400
TZOFFSETTO:+0400
TZNAME:+04
DTSTART:20190101T000000
END:STANDARD
END:VTIMEZONE
BEGIN:VEVENT
DTSTART;TZID=Asia/Dubai:20191106T080000
DTEND;TZID=Asia/Dubai:20191107T170000
DTSTAMP:20260424T052333
CREATED:20191017T122047Z
LAST-MODIFIED:20191017T122047Z
UID:4802-1573027200-1573146000@ashraeuae.org
SUMMARY:HVAC Design Training: Level II - Jeddah
DESCRIPTION:HVAC Design: Level II – Applications\nGain advanced instruction on HVAC system designs for experienced HVAC designers or those who have completed the HVAC Design Essentials (MENA) training. This two-day training provides complex information about designing\, installing\, and maintaining HVAC systems\, resulting in skills that can be put to immediate use. Gain an in-depth understanding of ASHRAE Standards 55\, 62.1\, 90.1\, and ASHRAE’s Advanced Energy Design Guides.
URL:https://ashraeuae.org/event/hvac-design-training-levels-ii-jeddah/
CATEGORIES:Course
ATTACH;FMTTYPE=:
END:VEVENT
END:VCALENDAR