BEGIN:VCALENDAR
VERSION:2.0
PRODID:-//ASHRAE Falcon Chapter - ECPv6.3.6//NONSGML v1.0//EN
CALSCALE:GREGORIAN
METHOD:PUBLISH
X-ORIGINAL-URL:https://ashraeuae.org
X-WR-CALDESC:Events for ASHRAE Falcon Chapter
REFRESH-INTERVAL;VALUE=DURATION:PT1H
X-Robots-Tag:noindex
X-PUBLISHED-TTL:PT1H
BEGIN:VTIMEZONE
TZID:Asia/Karachi
BEGIN:STANDARD
TZOFFSETFROM:+0500
TZOFFSETTO:+0500
TZNAME:PKT
DTSTART:20190101T000000
END:STANDARD
END:VTIMEZONE
BEGIN:VEVENT
DTSTART;TZID=Asia/Karachi:20190214T080000
DTEND;TZID=Asia/Karachi:20190214T170000
DTSTAMP:20260424T194106
CREATED:20190210T082441Z
LAST-MODIFIED:20190210T082441Z
UID:4743-1550131200-1550163600@ashraeuae.org
SUMMARY:ASHRAE course: Variable Refrigerant Flow Systems: Design & Applications (MENA) - Karachi\, Pakistan
DESCRIPTION:This course provides an overview of variable refrigerant flow (VRF) technology\, including equipment and system types\, heating/cooling operation\, heat recovery\, and the benefits of VRF systems. Also described is the VRF design process\, including load profile analysis\, unit sizing\, ventilation air strategy\, refrigerant piping design\, and system monitoring/controls. Refrigerant safety considerations are explained\, including a discussion of ASHRAE Standards 15 and 34. The course concludes with a focus on human comfort and sustainable design featuring example buildings\, ventilation systems\, and VRF system layouts. \n  \nFor registration: \nhttps://bit.ly/2Gk9d42
URL:https://ashraeuae.org/event/ashrae-course-variable-refrigerant-flow-systems-design-applications-mena-karachi-pakistan/
CATEGORIES:Course
ATTACH;FMTTYPE=:
END:VEVENT
END:VCALENDAR