BEGIN:VCALENDAR
VERSION:2.0
PRODID:-//ASHRAE Falcon Chapter - ECPv6.3.6//NONSGML v1.0//EN
CALSCALE:GREGORIAN
METHOD:PUBLISH
X-ORIGINAL-URL:https://ashraeuae.org
X-WR-CALDESC:Events for ASHRAE Falcon Chapter
REFRESH-INTERVAL;VALUE=DURATION:PT1H
X-Robots-Tag:noindex
X-PUBLISHED-TTL:PT1H
BEGIN:VTIMEZONE
TZID:Asia/Dubai
BEGIN:STANDARD
TZOFFSETFROM:+0400
TZOFFSETTO:+0400
TZNAME:+04
DTSTART:20190101T000000
END:STANDARD
TZID:Asia/Riyadh
BEGIN:STANDARD
TZOFFSETFROM:+0300
TZOFFSETTO:+0300
TZNAME:+03
DTSTART:20190101T000000
END:STANDARD
TZID:Asia/Dubai
BEGIN:STANDARD
TZOFFSETFROM:+0400
TZOFFSETTO:+0400
TZNAME:+04
DTSTART:20190101T000000
END:STANDARD
END:VTIMEZONE
BEGIN:VEVENT
DTSTART;TZID=Asia/Dubai:20191013T080000
DTEND;TZID=Asia/Dubai:20191015T170000
DTSTAMP:20260424T052334
CREATED:20191017T175929Z
LAST-MODIFIED:20191017T175929Z
UID:4826-1570953600-1571158800@ashraeuae.org
SUMMARY:HVAC Design Training: Level I - Riyadh
DESCRIPTION:HVAC Design: Level I – Essentials\nThe ASHRAE Global Training Center for Building Excellence is organizing a three-day HVAC Design Essentials training to provide intensive\, practical training for HVAC designers and others involved in the delivery of HVAC services in the MENA region. In three days\, gain real-world practical design skills and knowledge that can be put to immediate use in designing and maintaining HVAC systems. Developed by industry-leading professionals selected by ASHRAE and customized for the Middle East\, the training provides the fundamental and technical aspects of designing and maintaining HVAC systems.\nThe training provides the fundamental and technical aspects of designing and maintaining HVAC systems\, including: \n\n\n\n\nLoad Calculations\nPsychrometrics\nHVAC Systems and Components\nOutdoor Air Ventilation Volumes and Control\nAir Side and Hydronic Systems\nHumidification/De-humidification Components
URL:https://ashraeuae.org/event/hvac-design-training-levels-i-riyadh-2/
CATEGORIES:Course
ATTACH;FMTTYPE=:
END:VEVENT
BEGIN:VEVENT
DTSTART;TZID=Asia/Riyadh:20191016T080000
DTEND;TZID=Asia/Riyadh:20191017T170000
DTSTAMP:20260424T052334
CREATED:20191017T175430Z
LAST-MODIFIED:20191017T175430Z
UID:4824-1571212800-1571331600@ashraeuae.org
SUMMARY:HVAC Design Training: Level II - Riyadh
DESCRIPTION:HVAC Design: Level II – Applications\nGain advanced instruction on HVAC system designs for experienced HVAC designers or those who have completed the HVAC Design Essentials (MENA) training. This two-day training provides complex information about designing\, installing\, and maintaining HVAC systems\, resulting in skills that can be put to immediate use. Gain an in-depth understanding of ASHRAE Standards 55\, 62.1\, 90.1\, and ASHRAE’s Advanced Energy Design Guides.
URL:https://ashraeuae.org/event/hvac-design-training-levels-ii-riyadh/
CATEGORIES:Course
ATTACH;FMTTYPE=:
END:VEVENT
BEGIN:VEVENT
DTSTART;TZID=Asia/Dubai:20191027T080000
DTEND;TZID=Asia/Dubai:20191029T170000
DTSTAMP:20260424T052334
CREATED:20191017T174753Z
LAST-MODIFIED:20191017T174753Z
UID:4822-1572163200-1572368400@ashraeuae.org
SUMMARY:HVAC Design Training: Level I - Dubai
DESCRIPTION:ASHRAE’s HVAC Design Essentials training provides participants with instruction that accelerates their transformation into effective members of a design\, construction or facilities maintenance team. Developed by industry-leading professionals selected by ASHRAE\, the training provides attendees with the fundamentals and technical aspects of HVAC design. Attendees will gain practical skills and knowledge to design and maintain HVAC systems that can be put to immediate use.\nIn addition to gaining in-depth knowledge and understanding\, attendees will receive real-world examples of HVAC systems based on the renovated ASHRAE Headquarters building and on building in the MENA region. The training also teaches a systematic approach to guide a design team to a solution that optimally meets the client’s expectations.\nThe training provides the fundamental and technical aspects of designing and maintaining HVAC systems\, including: \n\n\n\nLoad Calculations\nPsychrometrics\nHVAC Systems and Components\nCodes and Standards\nBasic Design of Air Systems\nBasic Design of Hydronic Systems\nBAS Controls\nProject Management
URL:https://ashraeuae.org/event/hvac-design-training-levels-i-dubai-2/
CATEGORIES:Course
ATTACH;FMTTYPE=:
END:VEVENT
BEGIN:VEVENT
DTSTART;TZID=Asia/Dubai:20191030T080000
DTEND;TZID=Asia/Dubai:20191031T170000
DTSTAMP:20260424T052334
CREATED:20191017T173318Z
LAST-MODIFIED:20191017T173318Z
UID:4820-1572422400-1572541200@ashraeuae.org
SUMMARY:HVAC Design Training: Level II - Dubai
DESCRIPTION:ASHRAE’s HVAC Design: Level II – Applications training provides participants with instruction on HVAC system design. The training is tailored for engineers with advanced experience in the HVAC design field\, or those who have completed HVAC Design: Level I – Essentials. Developed by industry-leading professionals\, the training provides advanced information that allows practicing engineers and designers an opportunity to expand their exposure to HVAC systems design procedures for a better understanding of system options to save energy.
URL:https://ashraeuae.org/event/hvac-design-training-levels-ii-dubai-2/
CATEGORIES:Course
ATTACH;FMTTYPE=:
END:VEVENT
END:VCALENDAR