BEGIN:VCALENDAR
VERSION:2.0
PRODID:-//ASHRAE Falcon Chapter - ECPv6.3.6//NONSGML v1.0//EN
CALSCALE:GREGORIAN
METHOD:PUBLISH
X-ORIGINAL-URL:https://ashraeuae.org
X-WR-CALDESC:Events for ASHRAE Falcon Chapter
REFRESH-INTERVAL;VALUE=DURATION:PT1H
X-Robots-Tag:noindex
X-PUBLISHED-TTL:PT1H
BEGIN:VTIMEZONE
TZID:Asia/Dubai
BEGIN:STANDARD
TZOFFSETFROM:+0400
TZOFFSETTO:+0400
TZNAME:+04
DTSTART:20180101T000000
END:STANDARD
END:VTIMEZONE
BEGIN:VEVENT
DTSTART;TZID=Asia/Dubai:20181104T080000
DTEND;TZID=Asia/Dubai:20181106T170000
DTSTAMP:20260424T230224
CREATED:20180908T185118Z
LAST-MODIFIED:20180908T185118Z
UID:4722-1541318400-1541523600@ashraeuae.org
SUMMARY:ASHRAE Course (3 days) - HVAC design essential (MENA)
DESCRIPTION:ASHRAE Middle East Global Training Center for Building Excellence is organizing a three-day HVAC Design Essentials training to provide intensive\, practical training for HVAC designers and others involved in the delivery of HVAC services in the MENA region. In three days\, gain real-world practical design skills and knowledge that can be put to immediate use in designing and maintaining HVAC systems. Developed by industry-leading professionals selected by ASHRAE and customized for the Middle East\, the training provides the fundamental and technical aspects of designing and maintaining HVAC systems. \n  \nCourse Instructors: \nHassan Younes \nSamir Traboulsi\, Ph.D. \n  \nFor details and prices: \nhttps://bit.ly/2oT7esy \n  \nFor registration: \nhttps://bit.ly/2NVcQ0e
URL:https://ashraeuae.org/event/ashrae-course-3-days-hvac-design-essential-mena/
LOCATION:Arjaan By Rotana\, Media City\, Dubai\, United Arab Emirates
CATEGORIES:Course
ATTACH;FMTTYPE=:
END:VEVENT
BEGIN:VEVENT
DTSTART;TZID=Asia/Dubai:20181107T080000
DTEND;TZID=Asia/Dubai:20181107T170000
DTSTAMP:20260424T230224
CREATED:20180908T185713Z
LAST-MODIFIED:20180908T185713Z
UID:4727-1541577600-1541610000@ashraeuae.org
SUMMARY:ASHRAE Course (1 day) - Standard 90.1: HVAC/Mechanical Design and Appendix G (MENA)
DESCRIPTION:This course focuses on the major requirements of ASHRAE Standard 90.1-2016\, including incorporated addenda. The ASHRAE Standard 90.1: HVAC/Mechanical and Appendix G (MENA) course will also cover highlights of the envelope\, mechanical\, HVAC\, and lighting requirements in Appendix G and its new compliance path and performance rating method. Baseline building conditions and climate zone information on many cities in the region will also be provided. \n  \nCourse Instructor: \nSamir Traboulsi\, Ph.D. \n  \nFor details and prices: \nhttps://bit.ly/2NuLPUy \n  \nFor registration: \nhttps://bit.ly/2NVcQ0e
URL:https://ashraeuae.org/event/ashrae-course-1-day-standard-90-1-hvac-mechanical-design-and-appendix-g-mena/
LOCATION:Arjaan By Rotana\, Media City\, Dubai\, United Arab Emirates
CATEGORIES:Course
ATTACH;FMTTYPE=:
END:VEVENT
END:VCALENDAR